{"text_format":"1","workbook":"xlsx","n_sheets":4,"sheets":["Online","_","Hypothèses et résultats","Bibliothèque T.E"],"not_rendered":{"charts":1,"images":2,"macros":1,"external_links":1,"defined_names":153,"comments":0,"pivot_tables":0},"unopened":[],"bounds":{"document_bytes":16777216,"sheet_cells":100000,"rows_first":2000,"rows_last":500,"rows_between":2000,"halvings":0,"cell_chars":16384,"cell_head_chars":4096},"cells_cut":0,"cells_raw":0,"read":"whole","date_system":"1900"}

{"sheet":"Online","index":0,"n_rows":0,"n_cols":0,"rows_kept":0,"cut":false,"hidden":true,"merged":[]}

{"sheet":"_","index":1,"n_rows":12,"n_cols":9,"rows_kept":12,"cut":false,"hidden":true,"merged":[]}
[]
[]
[null,null,null,null,null,null,null,null,"Ouverture en cours, merci de patienter quelques instants…"]
[null,null,null,null,null,null,null,null,"Ce fichier vous est offert par Méthodes BTP"]
[null,null,null,null,null,null,null,null,"http://www.methodesbtp.com"]
[]
[]
[null,null,null,null,"Vous patientez depuis plus de 30 secondes et rien ne se passe ?"]
[null,null,null,null,null,"1. Allez dans les options Excel et activez les Macros. Pour Excel 2003 : installez le package OWC11.exe"]
[null,null,null,null,null,"2. Placez les options de sécurité au plus faible et indiquez que vous faites confiance au projet Visual Basic"]
[null,null,null,null,null,"3. Fermez complètement toutes les instances d'Excel"]
[null,null,null,null,null,"4. Ré-ouvrez ce fichier"]

{"sheet":"Hypothèses et résultats","index":2,"n_rows":129,"n_cols":38,"rows_kept":129,"cut":false,"hidden":false,"merged":[[50,0,51,3],[0,0,0,21],[46,5,46,6],[4,4,4,7],[10,4,10,5],[22,25,23,26],[21,25,21,26],[22,23,23,24],[21,23,21,24],[19,23,20,24],[17,23,18,24],[17,25,18,25],[19,25,20,26],[17,26,18,27]]}
["METHODES BTP - CALCUL DE SATURATION DE GRUE"]
["DATE :"]
["CHANTIER :"]
[]
["QUANTITES DU NIVEAU COMPLET","Quantité","Unité",null,"PARAMETRES FIXES"]
["Nb quotidien de banches",12,"U",null,"Durée du cycle de réalisation du niveau :",null,5]
["Nb d'angles sur chantier",2,"U",null,"Amplitude journalière souhaitée",null,7.5,{"$f":"((G7-ROUNDDOWN(G7,0))*0.6+ROUNDDOWN(G7,0))*100","v":730}]
["Linéaire de voiles préfa forains",2,"ml",null,"Contenance de la benne :",null,1.5]
["Nb de voiles préfa ext (béton blanc)",null,"U",null,"Niveaux entre stock et zone de travail",null,3]
["Linéaire de voiles de façade (hors préfa)",null,"ml"]
["Nb de mannequins dans voiles de façade",3,"U",null,"PARAMETRES PONDERATEURS",null,"Niveau","Coefficient"]
["Linéaire d'autres voiles ",3,"ml",null,"Nb de grues",null,1,{"$f":"10%*(G12-1)","v":0}]
["Nb de mannequins d'autres voiles",3,"U",null,"Performance grue",null,0,{"$f":"3%*(G13-1)","v":-0.03}]
["Epaisseur moyenne des voiles","0,2","m",null,"Longueur de la flèche",null,0,{"$f":"1%*G14","v":0}]
["Hauteur du niveau","2,7","m",null,"Interférence de grue",null,0,{"$f":"5%*G15","v":0}]
["Linéaire de voiles contreventés",20,"ml",null,"Visibilité du grutier",null,0,{"$f":"2%*G16","v":0}]
["Hauteur des voiles contreventés","2,7","m",null,"Zone de déchargement",null,0,{"$f":"2%*G17","v":0}]
["Nb de mannequins ds voiles contreventés",5,"U",null,"Zone de stockage",null,0,{"$f":"2%*G18","v":0},null,null,null,null,null,null,null,null,null,null,null,null,null,null,null,"Saturation par grue :",null,{"$f":"ROUND(SUM(V53:V128)/(G12*G6),2)","v":5.98},{"$f":"((Z18-ROUNDDOWN(Z18,0))*0.6+ROUNDDOWN(Z18,0))*100","v":558.79999999999995}]
["Nb de console de sécurité",8,"U",null,"Interdiction de survol",null,0,{"$f":"2%*G19","v":0}]
["Nb de passerelles de sécurité",4,"U",null,"Difficulté d'approvisionnement",null,0,{"$f":"2%*G20","v":0},null,null,null,null,null,null,null,null,null,null,null,null,null,null,null,"Nb de jours pour le cycle :",null,{"$f":"G6","v":5},null,{"$f":"IF(ROUNDUP(SUM(V53:V128)/(G12*G7),0)>4,ROUNDUP(SUM(V53:V128)/(G12*G7),0),5)","v":5}]
["Nb de poteaux tradi",3,"U",null,"Approvist des sous-traitants",null,0,{"$f":"50%*G21","v":0}]
["Nb de poteaux préfa forrains",2,"U",null,"1 cycle 2 bâtiments distincts",null,0,{"$f":"2%*G22","v":0}]
["Nb de poteaux préfa extérieurs",null,"U",null,"Complexité de la structure",null,0,{"$f":"3%*G23","v":0}]
["Volume par poteau","0,2","m3"]
["Nb d'outils de poteau",null,"U",null,"CHARGE DE GRUE",null,null,{"$f":"Z18","v":5.98}]
["Nb de poutres tradi",4,"U",null,"Verticaux : ",null,{"$f":"AF49/G6","v":3.7809396293314457},{"$f":"G26","v":3.7809396293314457}]
["Nb de poutres préfa foraines",2,"U",null,"Horizontaux :",null,{"$f":"X33/G6","v":0.47594994524436085},{"$f":"G27","v":0.47594994524436085}]
["Nb de poutres préfa extérieures",null,"U",null,"Divers : ",null,{"$f":"Y33/G6","v":1.7265287351361522},{"$f":"G28","v":1.7265287351361522},null,null,null,null,null,null,null,null,null,null,null,null,null,null,null,null,{"$f":"((AA28-ROUNDDOWN(AA28,0))*0.6+ROUNDDOWN(AA28,0))*100","v":559.00509858271766},null,{"$f":"AB28/G6","v":5.9834183097119595},{"$f":"SUM(V53:V128)/G12","v":29.917091548559796}]
["Volume par retombée de poutre","0,2","m3",null,{"$f":"IF(G29<0,\"Sur-utilisation de la grue :\",\"Grue libre :\")","v":"Grue libre :"},null,{"$f":"G7-H25","v":1.5199999999999996},{"$f":"IF(G29<0,0,G29)","v":1.5199999999999996},null,null,null,null,null,null,null,null,null,null,null,null,null,null,null,1,2,3,4,5,6,7]
["Surface de plancher tradi",null,"m²"]
["Surface de plancher prédalle foraine",null,"m²"]
["Surface de plancher prédalle extérieure",null,"m²",null,null,null,null,null,null,null,null,null,null,null,null,null,null,null,null,null,null,null,null,"Horizontaux","Divers","Grue libre"]
["Nb de prédalles foraines",null,"U",null,null,null,null,null,null,null,null,null,null,null,null,null,null,null,null,null,null,null,null,{"$f":"SUM(V88:V113)","v":2.3797497262218044},{"$f":"SUM(V119:V128)","v":8.632643675680761}]
["Nb de prédalles extérieures",8,"U",null,null,null,null,null,null,null,null,null,null,null,null,null,null,null,null,null,null,null,null,{"$f":"X33*$Z$18/$G$6","v":2.8461806725612782},{"$f":"Y33*$Z$18/$G$6","v":10.324641836114191},{"$f":"G7-H25","v":1.5199999999999996}]
["Surface de plancher dalle alvéolaire",null,"m²"]
["Nb de dalles alvéolaires",null,"U"]
["Surface de table",null,"m²"]
["Epaisseur totale des planchers","0,2","m"]
["Epaisseur moyenne des prédalles","0,2","m"]
["Ep. moyenne des dalles alvéolaires",null,"m"]
["Nb d'allèges préfa foraines",null,"U"]
["Nb d'allèges préfa extérieures",null,"U"]
["Volume par allège",null,"m3"]
["Nb d'outils de pose d'allège",null,"U"]
["Nb d'escaliers préfa",1,"U"]
["Nb de cages d'ascenseur",1,"U"]
["Nb de gaines préfa",null,"U",null,"Légende :","Donnée utilisateur  (tout le reste est calculé)"]
[null,null,null,null,null,null,null,null,null,null,null,null,null,null,null,null,null,null,null,null,null,null,null,null,null,null,null,null,null,null,null,"Verticaux"]
[null,null,null,null,null,null,null,null,null,null,null,null,null,null,null,null,null,null,null,null,null,null,null,null,null,null,null,null,null,null,null,{"$f":"SUM(V53:V87)","v":18.904698146657228}]
[9,10,11,12,13,null,14,15,16,17,18,19,20,21,22,23,24,25,26,27,28,null,null,null,null,null,null,null,null,null,null,{"$f":"AF49*$Z$18/$G$6","v":22.610018983402046}]
["RESULTATS DETAILLES",null,null,null,"Unités","Quantité","T.E mn","T.E","Coefficients pondérateurs relatifs aux caractéristiques du chantier",null,null,null,null,null,null,null,null,null,null,null,"Coef.","Total"]
[null,null,null,null,null,null,null,null," Modèle de grue"," Longueur de la fflèche"," Nb de grues"," Interférence de grue"," Visibilité du grutier"," Zone de ddéchargement"," Zone de stockage"," Interdiction de ssurvol"," Difficultés dd'approvisionnement"," Approvisionnement ddes sous-traitants"," 1 cycle avec 2 bbâtiments distincts"," Complexité de ll'architecture"]
[null,"Manut de banches ",null,null,"cp",{"$f":"(B6+2*B7)*G6*B10/(SUM(B10,B8,B12,B16)+0.0000000001)","v":0},{"$f":"H53*60","v":6.9},0.115,{"$f":"$H$13","v":-0.03},{"$f":"$H$14","v":0},{"$f":"$H$12","v":0},{"$f":"$H$15","v":0},null,null,null,{"$f":"$H$19","v":0},null,null,{"$f":"$H$22","v":0},{"$f":"$H$23","v":0},{"$f":"1+SUM(I53:T53)*1.5","v":0.95499999999999996},{"$f":"F53*H53*U53","v":0},{"$f":"V53*60","v":0}]
[null,"Manut de TS et autres aciers",null,null,"11ml",{"$f":"B10/11","v":0},2.1395089285714288,{"$f":"'Bibliothèque T.E'!D13*(0.75*(G9*B15/(4*2.8))+0.25)","v":3.5658482142857148E-2},-0.03,0,0,0,{"$f":"$H$16","v":0},null,{"$f":"$H$18","v":0},{"$f":"$H$19","v":0},{"$f":"$H$20","v":0},null,null,null,{"$f":"1+SUM(I54:T54)*1.5","v":0.95499999999999996},0,0]
[null,"Manut mannequins",null,null,"3U",{"$f":"B11/3","v":1},2.1,{"$f":"'Bibliothèque T.E'!D14","v":3.5000000000000003E-2},-0.03,0,0,0,null,null,{"$f":"$H$18","v":0},{"$f":"$H$19","v":0},{"$f":"$H$20","v":0},null,{"$f":"$H$22","v":0},null,0.95499999999999996,3.3425000000000003E-2,2.0055000000000001]
["Voiles de ","Fermeture de banches",null,null,"cp",{"$f":"50%*B6*G6*B10/(SUM(B10,B8,B12,B16)+0.0000000001)","v":0},1.38,2.3E-2,-0.03,0,0,0,null,null,null,null,null,null,null,{"$f":"$H$23","v":0},0.95499999999999996,0,0]
["façade","Coulage",null,null,{"$f":"G8","v":1.5},{"$f":"(B10*B14*B15-B11*B14*2.2)/E57","v":-0.88000000000000023},6.3270535714285723,{"$f":"($G$8*0.05+0.04)*(0.3*($G$9*$B$15)/(4*2.8)+0.7)","v":0.10545089285714287},-0.03,0,0,0,{"$f":"$H$16","v":0},null,null,{"$f":"$H$19","v":0},{"$f":"$H$20","v":0},null,null,{"$f":"$H$23","v":0},0.95499999999999996,-8.8620930357142885E-2,-5.3172558214285734]
[null,"Manut passerelles",null,null,"1U",{"$f":"B20","v":4},7.1999999999999993,0.12,-0.03,0,0,0,null,null,null,null,null,null,{"$f":"$H$22","v":0},{"$f":"$H$23","v":0},0.95499999999999996,0.45839999999999997,27.503999999999998]
[null,"Manut consoles",null,null,"1U",{"$f":"B19","v":8},9,{"$f":"'Bibliothèque T.E'!D33","v":0.15},-0.03,0,0,0,null,null,null,null,null,null,{"$f":"$H$22","v":0},{"$f":"$H$23","v":0},0.95499999999999996,1.1459999999999999,68.759999999999991]
[null,"Manut de banches",null,null,"cp",{"$f":"(B6+2*B7)*G6*B8/(SUM(B10,B8,B12,B16)+0.0000000001)","v":6.3999999999744004},6.9,0.115,-0.03,0,0,0,null,null,null,null,null,null,{"$f":"$H$22","v":0},{"$f":"$H$23","v":0},0.95499999999999996,0.70287999999718853,42.172799999831312]
[null,"Manut de TS et autres aciers",null,null,"11ml",{"$f":"B8/11","v":0.18181818181818182},2.1395089285714288,{"$f":"'Bibliothèque T.E'!D13*(0.75*(G9*B15/(4*2.8))+0.25)","v":3.5658482142857148E-2},-0.03,0,0,0,{"$f":"$H$16","v":0},null,{"$f":"$H$18","v":0},{"$f":"$H$19","v":0},{"$f":"$H$20","v":0},null,null,null,0.95499999999999996,6.1916091720779229E-3,0.37149655032467538,null,null,null,null,null,null,null,null,null,{"$f":"($G$8*0.05+0.04)*((0.3*($G$9*$B$15)/(4*2.8))+0.7)","v":0.10545089285714287}]
["Voiles préfa","Fermeture de banche",null,null,"cp",{"$f":"50%*B6*G6*B8/(SUM(B10,B8,B12,B16)+0.0000000001)","v":2.3999999999904},1.38,2.3E-2,-0.03,0,0,0,null,null,null,null,null,null,null,{"$f":"$H$23","v":0},0.95499999999999996,5.2715999999789133E-2,3.1629599999873479]
[null,"Coulage",null,null,{"$f":"G8","v":1.5},{"$f":"(B8*B14*B15)/E63","v":0.72000000000000008},6.9000000000000012,{"$f":"($G$8*0.05+0.04)","v":0.11500000000000002},-0.03,0,0,0,{"$f":"$H$16","v":0},null,null,{"$f":"$H$19","v":0},{"$f":"$H$20","v":0},null,null,{"$f":"$H$23","v":0},0.95499999999999996,7.9074000000000019E-2,4.7444400000000009]
[null,"Stockage de voile préfa",null,null,"cp",{"$f":"50%*B8/2+100%*B9","v":0.5},9,{"$f":"'Bibliothèque T.E'!D34","v":0.15},-0.03,0,0,0,null,null,{"$f":"$H$18","v":0},{"$f":"$H$19","v":0},null,null,null,null,0.95499999999999996,7.1624999999999994E-2,4.2974999999999994]
[null,"Mise en place de voile préfa",null,null,"cp",{"$f":"B8/2","v":1},10.728482142857143,{"$f":"'Bibliothèque T.E'!D35*(0.3*($G$9*$B$15)/(4*2.8)+0.7)","v":0.17880803571428572},-0.03,0,0,0,null,null,null,{"$f":"$H$19","v":0},null,null,null,{"$f":"$H$23","v":0},0.95499999999999996,0.17076167410714285,10.245700446428572]
[null,"Manut de banche intérieure",null,null,"cp",{"$f":"(B6+B7)*G6*B16/(SUM(B10,B8,B12,B16)+0.0000000001)","v":55.999999999776001},4.9800000000000004,8.3000000000000004E-2,-0.03,0,0,0,null,null,null,null,null,null,{"$f":"$H$22","v":0},{"$f":"$H$23","v":0},0.95499999999999996,4.4388399999822452,266.33039999893469]
[null,"Manut de banche exterieure (stockage)",null,null,"cp",{"$f":"(B6)*G6*B16/(SUM(B10,B8,B12,B16)+0.0000000001)","v":47.999999999808004},4.9800000000000004,8.3000000000000004E-2,-0.03,0,0,0,null,null,null,null,null,null,{"$f":"$H$22","v":0},{"$f":"$H$23","v":0},0.95499999999999996,3.8047199999847816,228.28319999908689]
[null,"Manut de TS et autres aciers",null,null,"11ml",{"$f":"B16/11","v":1.8181818181818181},2.1395089285714288,{"$f":"'Bibliothèque T.E'!D13*(0.75*(G9*B15/(4*2.8))+0.25)","v":3.5658482142857148E-2},-0.03,0,0,0,{"$f":"$H$16","v":0},null,{"$f":"$H$18","v":0},{"$f":"$H$19","v":0},{"$f":"$H$20","v":0},null,null,null,0.95499999999999996,6.1916091720779227E-2,3.7149655032467535]
["Voiles ","Manut mannequins",null,null,"3U",{"$f":"B18/3","v":1.6666666666666667},2.1,{"$f":"'Bibliothèque T.E'!D14","v":3.5000000000000003E-2},-0.03,0,0,0,null,null,{"$f":"$H$18","v":0},{"$f":"$H$19","v":0},null,null,{"$f":"$H$22","v":0},null,0.95499999999999996,5.5708333333333339E-2,3.3425000000000002]
[null,"Manut de banche extérieure (mise en place)",null,null,"cp",{"$f":"(B6+B7)*G6*B16/(SUM(B10,B8,B12,B16)+0.0000000001)","v":55.999999999776001},4.9800000000000004,8.3000000000000004E-2,-0.03,0,0,0,null,null,null,null,null,null,null,{"$f":"$H$23","v":0},0.95499999999999996,4.4388399999822452,266.33039999893469]
[null,"Coulage",null,null,{"$f":"G8","v":1.5},{"$f":"(B16*B14*B17-B18*B14*2.2)/E71","v":5.7333333333333343},6.3270535714285723,{"$f":"($G$8*0.05+0.04)*(0.3*($G$9*$B$15)/(4*2.8)+0.7)","v":0.10545089285714287},-0.03,0,0,0,{"$f":"$H$16","v":0},null,null,{"$f":"$H$19","v":0},{"$f":"$H$20","v":0},null,null,{"$f":"$H$23","v":0},0.95499999999999996,0.57737878869047632,34.64272732142858]
[null,"Manut des lests",null,null,"1U",{"$f":"B16/1.2","v":16.666666666666668},2.52,{"$f":"'Bibliothèque T.E'!D39","v":4.2000000000000003E-2},-0.03,0,0,0,null,null,null,null,null,null,{"$f":"$H$22","v":0},{"$f":"$H$23","v":0},0.95499999999999996,0.66849999999999998,40.11]
[null,"Manut de banche ",null,null,"cp",{"$f":"(B6+2*B7)*G6*B12/(SUM(B10,B8,B12,B16)+0.0000000001)","v":9.5999999999616001},6.9,0.115,-0.03,0,0,0,null,null,null,null,null,null,{"$f":"$H$22","v":0},{"$f":"$H$23","v":0},0.95499999999999996,1.0543199999957829,63.259199999746969]
["Tous les autres ","Manut de TS et autres aciers",null,null,"11ml",{"$f":"B12/11","v":0.27272727272727271},2.1395089285714288,{"$f":"'Bibliothèque T.E'!D13*(0.75*(G9*B15/(4*2.8))+0.25)","v":3.5658482142857148E-2},-0.03,0,0,0,{"$f":"$H$16","v":0},null,{"$f":"$H$18","v":0},{"$f":"$H$19","v":0},{"$f":"$H$20","v":0},null,null,null,0.95499999999999996,9.2874137581168831E-3,0.55724482548701304]
["voiles et ","Manut mannequins",null,null,"3U",{"$f":"B13/3","v":1},2.1,{"$f":"'Bibliothèque T.E'!D14","v":3.5000000000000003E-2},-0.03,0,0,0,null,null,{"$f":"$H$18","v":0},{"$f":"$H$19","v":0},{"$f":"$H$20","v":0},null,{"$f":"$H$22","v":0},null,0.95499999999999996,3.3425000000000003E-2,{"$f":"V75*60","v":2.0055000000000001}]
["divers","Fermeture de banche",null,null,"cp",{"$f":"50%*(B6)*G6*B12/(SUM(B10,B8,B12,B16)+0.0000000001)","v":3.5999999999856001},null,2.3E-2,-0.03,0,0,0,null,null,{"$f":"$H$18","v":0},{"$f":"$H$19","v":0},{"$f":"$H$20","v":0},null,{"$f":"$H$22","v":0},null,0.95499999999999996,7.9073999999683703E-2,{"$f":"V76*60","v":4.7444399999810223}]
[null,"Coulage",null,null,{"$f":"G8","v":1.5},{"$f":"(B12*B14*(B15-0.2)-B13*B14*2.2)/E77","v":0.11999999999999995},{"$f":"H77*60","v":6.3270535714285723},{"$f":"($G$8*0.05+0.04)*(0.3*($G$9*$B$15)/(4*2.8)+0.7)","v":0.10545089285714287},-0.03,0,0,0,null,null,null,{"$f":"$H$19","v":0},{"$f":"$H$20","v":0},null,{"$f":"$H$22","v":0},{"$f":"$H$23","v":0},0.95499999999999996,1.2084672321428569E-2,0.72508033928571414]
[null,"Manut coffrage",null,null,"U",{"$f":"B21","v":3},3.9000000000000004,{"$f":"'Bibliothèque T.E'!D40","v":6.5000000000000002E-2},-0.03,0,0,0,null,null,null,null,null,null,{"$f":"$H$22","v":0},null,0.95499999999999996,0.186225,11.173500000000001,null,null,null,null,null,null,null,null,null,null,null,null,null,null,"RESULTATS"]
["Poteaux","Manut aciers",null,null,"U",{"$f":"B21","v":3},2.9477678571428574,{"$f":"'Bibliothèque T.E'!D41*(0.75*(G9*B15/(4*2.8))+0.25)","v":4.912946428571429E-2},-0.03,0,0,0,{"$f":"$H$16","v":0},null,{"$f":"$H$18","v":0},{"$f":"$H$19","v":0},{"$f":"$H$20","v":0},null,null,null,0.95499999999999996,0.14075591517857142,8.4453549107142845]
[null,"Fermeture de banche",null,null,"U",{"$f":"B21","v":3},1.38,{"$f":"H62","v":2.3E-2},-0.03,0,0,0,null,null,null,null,null,null,null,null,0.95499999999999996,6.5895000000000009E-2,3.9537000000000004]
[null,"Coulage",null,null,{"$f":"G8","v":1.5},{"$f":"(B21*B24)/E81","v":0.40000000000000008},6.3270535714285723,{"$f":"($G$8*0.05+0.04)*(0.3*($G$9*$B$15)/(4*2.8)+0.7)","v":0.10545089285714287},-0.03,0,0,0,{"$f":"$H$16","v":0},null,null,{"$f":"$H$19","v":0},{"$f":"$H$20","v":0},null,null,null,0.95499999999999996,4.0282241071428582E-2,2.4169344642857151]
[null,"Manut coffrage",null,null,"U",{"$f":"B22","v":2},3.9000000000000004,{"$f":"'Bibliothèque T.E'!D40","v":6.5000000000000002E-2},-0.03,0,0,0,null,null,null,null,null,null,{"$f":"$H$22","v":0},null,0.95499999999999996,0.12415,7.4489999999999998]
[null,"Manut de HA",null,null,"U",{"$f":"B22","v":2},3.7199999999999998,{"$f":"'Bibliothèque T.E'!D41","v":6.2E-2},-0.03,0,0,0,{"$f":"$H$16","v":0},null,{"$f":"$H$18","v":0},{"$f":"$H$19","v":0},{"$f":"$H$20","v":0},null,null,null,0.95499999999999996,0.11842,7.1052]
["Poteaux préfa","Fermeture de banche ",null,null,"U",{"$f":"B22","v":2},1.5,{"$f":"'Bibliothèque T.E'!D42","v":2.5000000000000001E-2},-0.03,0,0,0,null,null,null,null,null,null,null,null,0.95499999999999996,4.7750000000000001E-2,2.8650000000000002]
[null,"Coulage",null,null,{"$f":"G8","v":1.5},{"$f":"(B22*B24)/E85","v":0.26666666666666666},3.84,{"$f":"'Bibliothèque T.E'!D43","v":6.4000000000000001E-2},{"$f":"$H$13","v":-0.03},{"$f":"$H$14","v":0},{"$f":"$H$12","v":0},{"$f":"$H$15","v":0},{"$f":"$H$16","v":0},null,null,{"$f":"$H$19","v":0},{"$f":"$H$20","v":0},null,null,null,0.95499999999999996,{"$f":"F85*H85*U85","v":1.6298666666666666E-2},0.97792000000000001]
[null,"Stockage de poteaux préfa",null,null,"U",{"$f":"10%*(B22+B23)","v":0.2},4.2,{"$f":"'Bibliothèque T.E'!D44","v":7.0000000000000007E-2},-0.03,0,0,0,null,{"$f":"$H$17","v":0},{"$f":"$H$18","v":0},{"$f":"$H$19","v":0},null,null,null,null,0.95499999999999996,1.3370000000000002E-2,0.80220000000000014]
[null,"Mise en place de poteaux préfa",null,null,"U",{"$f":"B22+B23","v":2},8.9530263157894741,{"$f":"'Bibliothèque T.E'!D45*(0.3*($G$9*$B$15)/(6*3.8)+0.7)","v":0.1492171052631579},-0.03,0,0,0,null,null,null,{"$f":"$H$19","v":0},null,null,null,null,0.95499999999999996,0.28500467105263155,17.100280263157892]
[null,"Manut de poutres (aciers)",null,null,"U",{"$f":"B26","v":4},10.200000000000001,{"$f":"'Bibliothèque T.E'!D46","v":0.17},-0.03,0,0,0,null,null,{"$f":"$H$18","v":0},{"$f":"$H$19","v":0},null,null,null,null,0.95499999999999996,0.64939999999999998,38.963999999999999]
["Poutres tradi","Manut coffrage (compris étais)",null,null,"U",{"$f":"B26","v":4},5.7,{"$f":"'Bibliothèque T.E'!D47","v":9.5000000000000001E-2},-0.03,0,0,0,null,null,null,null,null,null,{"$f":"$H$22","v":0},null,0.95499999999999996,0.3629,21.774000000000001]
[null,"Coulage",null,null,{"$f":"G8","v":1.5},{"$f":"B29*B26/E90","v":0.53333333333333333},6.84,{"$f":"0.02*$G$8+0.084","v":0.114},-0.03,0,0,0,null,null,null,{"$f":"$H$19","v":0},{"$f":"$H$20","v":0},null,null,null,0.95499999999999996,5.8063999999999998E-2,3.4838399999999998]
[null,"Manut de HA",null,null,"U",{"$f":"B27","v":2},4.2,{"$f":"'Bibliothèque T.E'!D49","v":7.0000000000000007E-2},-0.03,0,0,0,{"$f":"$H$16","v":0},null,{"$f":"$H$18","v":0},{"$f":"$H$19","v":0},{"$f":"$H$20","v":0},null,null,null,0.95499999999999996,0.13370000000000001,8.0220000000000002]
["Poutres préfa","Coulage",null,null,{"$f":"G8","v":1.5},{"$f":"B29*B27/E92","v":0.26666666666666666},6.84,{"$f":"0.02*$G$8+0.084","v":0.114},-0.03,0,0,0,{"$f":"$H$16","v":0},null,null,{"$f":"$H$19","v":0},{"$f":"$H$20","v":0},null,null,null,0.95499999999999996,2.9031999999999999E-2,1.7419199999999999]
["et divers ","Stockage de poutres préfa",null,null,"U",{"$f":"50%*B28+10%*B27","v":0.2},4.2,{"$f":"'Bibliothèque T.E'!D50","v":7.0000000000000007E-2},-0.03,0,0,0,null,{"$f":"$H$17","v":0},{"$f":"$H$18","v":0},{"$f":"$H$19","v":0},null,null,null,null,0.95499999999999996,1.3370000000000002E-2,0.80220000000000014]
["horizontaux","Manut des étais",null,null,"U",{"$f":"B27+B28","v":2},3.9000000000000004,{"$f":"'Bibliothèque T.E'!D53","v":6.5000000000000002E-2},-0.03,0,0,0,null,null,null,null,null,null,{"$f":"$H$22","v":0},null,0.95499999999999996,0.12415,7.4489999999999998]
[null,"Mise en place de poutres préfa",null,null,"U",{"$f":"B28+B27","v":2},9.077946428571428,{"$f":"'Bibliothèque T.E'!D54*(0.3*($G$9*$B$15)/(4*2.8)+0.7)","v":0.15129910714285713},-0.03,0,0,0,null,null,null,{"$f":"$H$19","v":0},null,null,null,null,0.95499999999999996,0.2889812946428571,17.338877678571425]
[null,"Coulage des clavetages",null,null,{"$f":"G8","v":1.5},{"$f":"0.03*(B27+B28)/E96","v":0.04},6.84,{"$f":"0.02*$G$8+0.084","v":0.114},-0.03,0,0,0,{"$f":"$H$16","v":0},null,null,{"$f":"$H$19","v":0},{"$f":"$H$20","v":0},null,null,null,0.95499999999999996,4.3548000000000007E-3,0.26128800000000002]
[null,"Manut coffrage plancher (compris étais)",null,null,"17m²",{"$f":"B30/17","v":0},4.5,{"$f":"'Bibliothèque T.E'!D55","v":7.4999999999999997E-2},-0.03,0,0,0,null,null,null,null,null,null,{"$f":"$H$22","v":0},null,0.95499999999999996,0,0]
["Planchers tradi","Manut de TS et autres aciers (par lit)",null,null,"40m²",{"$f":"2*(B30+B37)/40","v":0},3.54,{"$f":"'Bibliothèque T.E'!D56","v":5.8999999999999997E-2},-0.03,0,0,0,{"$f":"$H$16","v":0},null,{"$f":"$H$18","v":0},{"$f":"$H$19","v":0},{"$f":"$H$20","v":0},null,null,null,0.95499999999999996,0,0]
[null,"Coulage de plancher",null,null,{"$f":"G8","v":1.5},{"$f":"B30*B38/E99","v":0},2.9502321428571432,{"$f":"(0.026*$G$8+0.019)*((G9*B15*0.55)/(4*2.8)+0.45)","v":4.9170535714285722E-2},-0.03,0,0,0,{"$f":"$H$16","v":0},null,null,{"$f":"$H$19","v":0},{"$f":"$H$20","v":0},null,null,null,0.95499999999999996,0,0]
[null,"Manut de TS et autres aciers",null,null,"55m²",{"$f":"(B31)/55","v":0},2.8051339285714287,{"$f":"'Bibliothèque T.E'!D56*(0.75*(G9*B15/(4*2.8))+0.25)","v":4.6752232142857147E-2},-0.03,0,0,0,{"$f":"$H$16","v":0},null,{"$f":"$H$18","v":0},{"$f":"$H$19","v":0},{"$f":"$H$20","v":0},null,null,null,0.95499999999999996,0,0]
[null,"Manut divers doka et platelage",null,null,"75m²",{"$f":"(B31+B32)/75","v":0},4.5,{"$f":"'Bibliothèque T.E'!D55","v":7.4999999999999997E-2},-0.03,0,0,0,null,null,null,null,null,null,{"$f":"$H$22","v":0},null,0.95499999999999996,0,0]
[null,"Coulage de prédalle",null,null,{"$f":"G8","v":1.5},{"$f":"B31*B39/E102","v":0},2.9502321428571432,{"$f":"(0.026*$G$8+0.019)*((G9*B15*0.55)/(4*2.8)+0.45)","v":4.9170535714285722E-2},-0.03,0,0,0,{"$f":"$H$16","v":0},null,null,{"$f":"$H$19","v":0},{"$f":"$H$20","v":0},null,null,null,0.95499999999999996,0,0]
["Planchers","Stockage de prédalle",null,null,"U",{"$f":"10%*B34","v":0.8},5.3999999999999995,{"$f":"'Bibliothèque T.E'!D64","v":0.09},-0.03,0,0,0,null,{"$f":"$H$17","v":0},{"$f":"$H$18","v":0},{"$f":"$H$19","v":0},{"$f":"$H$20","v":0},null,{"$f":"$H$22","v":0},null,0.95499999999999996,6.8759999999999988E-2,4.1255999999999995]
["prédalles","Mise en place de prédalle",null,null,"U",{"$f":"B33+B34","v":8},5.0814473684210526,{"$f":"'Bibliothèque T.E'!D65*(0.3*($G$9*$B$15)/(6*3.8)+0.7)","v":8.4690789473684205E-2},-0.03,0,0,0,{"$f":"$H$16","v":0},null,null,{"$f":"$H$19","v":0},null,null,null,{"$f":"$H$23","v":0},0.95499999999999996,0.64703763157894734,38.822257894736843]
[null,"Manut étaiement",null,null,"20m²",{"$f":"(B31+B32)/100","v":0},2.6999999999999997,{"$f":"'Bibliothèque T.E'!D66","v":4.4999999999999998E-2},-0.03,0,0,0,null,null,null,null,null,null,{"$f":"$H$22","v":0},null,0.95499999999999996,0,0]
[null,"Manut aciers pour dalle de compression",null,null,"40m²",{"$f":"(B31+B32)/40","v":0},3.54,{"$f":"'Bibliothèque T.E'!D56","v":5.8999999999999997E-2},-0.03,0,0,0,{"$f":"$H$16","v":0},null,{"$f":"$H$18","v":0},{"$f":"$H$19","v":0},{"$f":"$H$20","v":0},null,null,null,0.95499999999999996,0,0]
[null,"Coulage de dalle de compression",null,null,{"$f":"G8","v":1.5},{"$f":"(B31+B32)*(B38-B39)/E107","v":0},2.9502321428571432,{"$f":"(0.026*$G$8+0.019)*((G9*B15*0.55)/(4*2.8)+0.45)","v":4.9170535714285722E-2},-0.03,0,0,0,{"$f":"$H$16","v":0},null,null,{"$f":"$H$19","v":0},{"$f":"$H$20","v":0},null,null,null,0.95499999999999996,0,0]
[null,"Manut étaiement",null,null,"20m²",{"$f":"B35/100","v":0},2.6999999999999997,{"$f":"'Bibliothèque T.E'!D66","v":4.4999999999999998E-2},-0.03,0,0,0,null,null,null,null,null,null,{"$f":"$H$22","v":0},null,0.95499999999999996,0,0]
["Planchers","Stockage de dalles alvéolaires",null,null,"U",{"$f":"10%*B36","v":0},{"$f":"H109*60","v":5.3999999999999995},{"$f":"'Bibliothèque T.E'!D64","v":0.09},-0.03,0,0,0,null,{"$f":"$H$17","v":0},{"$f":"$H$18","v":0},{"$f":"$H$19","v":0},{"$f":"$H$20","v":0},null,{"$f":"$H$22","v":0},null,0.95499999999999996,0,0]
["Dalles","Manut dalles alvéolaires",null,null,"U",{"$f":"B36","v":0},12.582631578947369,{"$f":"'Bibliothèque T.E'!D69*(0.3*($G$9*$B$15)/(6*3.8)+0.7)","v":0.20971052631578949},-0.03,0,0,0,{"$f":"$H$16","v":0},null,{"$f":"$H$18","v":0},0,0,null,null,{"$f":"$H$23","v":0},0.95499999999999996,0,0]
["Alvéolaires","Coulage de clavetage des dalles",null,null,"U",{"$f":"10%*B36","v":0},2.9502321428571432,{"$f":"(0.026*$G$8+0.019)*((G9*B15*0.55)/(4*2.8)+0.45)","v":4.9170535714285722E-2},-0.03,0,0,0,0,null,null,0,0,null,null,null,0.95499999999999996,0,0]
[null,"Manut de TS et autres aciers",null,null,"40m²",{"$f":"B35/40","v":0},2.8051339285714287,{"$f":"'Bibliothèque T.E'!D56*(0.75*(G9*B15/(4*2.8))+0.25)","v":4.6752232142857147E-2},-0.03,0,0,0,0,null,{"$f":"$H$18","v":0},0,0,null,null,null,0.95499999999999996,0,0]
[null,"Coulage de dalle de compression",null,null,{"$f":"G8","v":1.5},{"$f":"B35*(B38-B40)/E113","v":0},2.9502321428571432,{"$f":"(0.026*$G$8+0.019)*((G9*B15*0.55)/(4*2.8)+0.45)","v":4.9170535714285722E-2},-0.03,0,0,0,0,null,null,0,0,null,null,null,0.95499999999999996,0,0]
[null,"Manut ferraille",null,null,"U",{"$f":"B41","v":0},4.5,{"$f":"'Bibliothèque T.E'!D88","v":7.4999999999999997E-2},-0.03,0,0,0,0,null,{"$f":"$H$18","v":0},0,0,null,null,null,0.95499999999999996,0,0]
[null,"Coulage de l'allège",null,null,{"$f":"G8","v":1.5},{"$f":"B41*B43/E115","v":0},6.9000000000000012,{"$f":"($G$8*0.05+0.04)","v":0.11500000000000002},-0.03,0,0,0,0,null,null,0,0,null,null,null,0.95499999999999996,0,0]
["Allège préfa","Stockage de l'allège",null,null,"U",{"$f":"10%*B41+50%*B42","v":0},4.5,{"$f":"'Bibliothèque T.E'!D86","v":7.4999999999999997E-2},-0.03,0,0,0,null,{"$f":"$H$17","v":0},{"$f":"$H$18","v":0},0,0,null,{"$f":"$H$22","v":0},null,0.95499999999999996,0,0]
[null,"Manut de l'outil de pose d'allège",null,null,"U",{"$f":"B44","v":0},15,{"$f":"'Bibliothèque T.E'!D87","v":0.25},{"$f":"$H$13","v":-0.03},{"$f":"$H$14","v":0},{"$f":"$H$12","v":0},{"$f":"$H$15","v":0},null,null,null,null,null,null,{"$f":"$H$22","v":0},{"$f":"$H$23","v":0},0.95499999999999996,{"$f":"F117*H117*U117","v":0},0]
[null,"Mise en place de l'allège",null,null,"U",{"$f":"B41+B42","v":0},8.3627142857142847,{"$f":"'Bibliothèque T.E'!D89*(0.3*($G$9*$B$15)/(4*2.8)+0.7)","v":0.13937857142857141},-0.03,0,0,0,null,null,null,{"$f":"$H$19","v":0},null,null,null,{"$f":"$H$23","v":0},{"$f":"1+SUM(I118:T118)*1.5","v":0.95499999999999996},0,{"$f":"V118*60","v":0}]
[null,"Manut escalier préfa",null,null,"U",{"$f":"B45","v":1},17.7,{"$f":"'Bibliothèque T.E'!D90","v":0.29499999999999998},-0.03,0,0,0,{"$f":"$H$16","v":0},null,{"$f":"$H$18","v":0},0,{"$f":"$H$20","v":0},null,null,null,0.95499999999999996,0.28172499999999995,16.903499999999998]
["Autres préfa","Plateforme escalier",null,null,"U",{"$f":"B45","v":1},9.36,{"$f":"'Bibliothèque T.E'!D92","v":0.156},-0.03,0,0,0,null,null,null,0,null,null,{"$f":"$H$22","v":0},null,0.95499999999999996,0.14898,8.9388000000000005]
[null,"Manut de podium d'ascenseur",null,null,"U",{"$f":"B46","v":1},9.7200000000000006,{"$f":"'Bibliothèque T.E'!D93","v":0.16200000000000001},-0.03,0,0,0,null,null,null,0,null,null,null,null,0.95499999999999996,0.15470999999999999,9.2825999999999986]
[null,"Manut de gaines préfa",null,null,"U",{"$f":"B47","v":0},9.9,{"$f":"'Bibliothèque T.E'!D95","v":0.16500000000000001},-0.03,0,0,0,null,null,null,0,null,null,null,null,0.95499999999999996,0,0]
[null,"Manut divers matériels et matériaux",null,null,"cp",{"$f":"4*G6","v":20},5.9430803571428577,{"$f":"'Bibliothèque T.E'!D103*(0.75*(G9*B15/(4*2.8))+0.25)","v":9.9051339285714302E-2},-0.03,0,0,0,{"$f":"$H$16","v":0},null,{"$f":"$H$18","v":0},0,{"$f":"$H$20","v":0},null,null,null,0.95499999999999996,1.891880580357143,113.51283482142858]
[null,"Déchargements divers",null,null,"cp",{"$f":"G6","v":5},2.1,{"$f":"'Bibliothèque T.E'!D104","v":3.5000000000000003E-2},-0.03,0,0,0,{"$f":"$H$16","v":0},{"$f":"$H$17","v":0},{"$f":"$H$18","v":0},0,null,null,null,null,0.95499999999999996,0.167125,10.0275]
["Divers","Manut de benne à gravats",null,null,"cp",{"$f":"2.5*G6","v":12.5},7.5,{"$f":"'Bibliothèque T.E'!D105","v":0.125},-0.03,0,0,0,{"$f":"$H$16","v":0},null,null,0,null,null,{"$f":"$H$22","v":0},null,0.95499999999999996,1.4921875,89.53125]
[null,"Approvisionnement des sous-traitants",null,null,"cp",{"$f":"3*G6","v":15},5.7,{"$f":"'Bibliothèque T.E'!D108","v":9.5000000000000001E-2},-0.03,0,0,0,{"$f":"$H$16","v":0},{"$f":"$H$17","v":0},{"$f":"$H$18","v":0},0,{"$f":"$H$20","v":0},{"$f":"$H$21","v":0},null,null,0.95499999999999996,1.3608750000000001,81.652500000000003]
[null,"Elingage, désélingage palonnier",null,null,"U",{"$f":"3*G6","v":15},1.74,{"$f":"'Bibliothèque T.E'!D109","v":2.9000000000000001E-2},-0.03,0,0,0,null,null,null,null,null,null,{"$f":"$H$22","v":0},null,0.95499999999999996,0.41542499999999999,24.9255]
[null,"Aléas 10%",null,null,"%",{"$f":"10%*SUM(V53:V127)","v":2.719735595323618},60,1,null,null,null,null,null,null,null,null,null,null,null,null,1,2.719735595323618,163.18413571941707]
[null,null,null,null,null,null,null,null,null,null,null,null,null,null,null,null,null,null,null,null,null,{"$f":"SUM(V53:V128)","v":29.917091548559796},1795.0254929135876]

{"sheet":"Bibliothèque T.E","index":3,"n_rows":109,"n_cols":4,"rows_kept":109,"cut":false,"hidden":false,"merged":[[0,1,1,1],[95,0,101,0],[45,0,53,0],[0,2,0,3],[102,0,108,0],[2,0,38,0],[39,0,44,0],[54,0,69,0],[85,0,94,0],[70,0,84,0]]}
[null,"Tâches élementaires","Utilisés dans la saturation"]
[null,null,"Unité","T.E"]
["VOILES","Manut de banche compas B96 dont la hauteur est inférieure à 3,45 ","cp",7.0000000000000007E-2]
[null,"Manut de banche compas B96 dont la hauteur est comprise entre  3,45m et 4,65m ","cp",0.115]
[null,"Manut de banche compas et non compas dont la hauteur est supérieure à 4,65m ","cp",0.113]
[null,"Manut de banche non compas  B96 dont la hauteur est inférieure à 3,45m ","cp",0.06]
[null,"Manut de banche non compas B96 dont la hauteur est comprise entre 3,45m et 4,65m","cp",8.3000000000000004E-2]
[null,"Manut de banche 2,85m compas B96","xxx","xxx"]
[null,"Manut de banche 2,85m compas autre que B96","xxx","xxx"]
[null,"Manut de spéciaux, banchettes ","xxx","xxx"]
[null,"Manut d'about","xxx","xxx"]
[null,"Manut de banche d'angle 2,85m","xxx","xxx"]
[null,"Manut de TS et autres ferrailles","11ml",4.4999999999999998E-2]
[null,"Manut mannequins","3U",3.5000000000000003E-2]
[null,"Manut réhausse pour allèges (par exemple)","cp",6.5000000000000002E-2]
[null,"Fermeture de banche B96 hauteur inférieure à 3,45m","cp",2.3E-2]
[null,"Fermeture de banche B96 hauteur supérieure à 3,45m","cp",3.7999999999999999E-2]
[null,"Fermeture de banche autre que B96","xxx","xxx"]
[null,"Coulage voiles, allèges et poteaux","volume benne","formule"]
[null,"Coulage voiles, allèges et poteaux","volume benne","formule"]
[null,"Coulage voiles au béton blanc","volume benne","formule"]
[null,"Coulage voile banche 3,30m","volume benne","formule"]
[null,"Coulage voile banche 2,85m","volume benne","formule"]
[null,"Coulage poteau 2,85m","volume benne","formule"]
[null,"Coulage voiles au béton blanc","xxx","xxx"]
[null,"Coulage voile banche 3,30m","volume benne","formule"]
[null,"Coulage voile banche 2,85m","volume benne","formule"]
[null,"Coulage poteau 2,85m","volume benne","formule"]
[null,"Mise en place ferraille linteau dans banche compas","U",9.5000000000000001E-2]
[null,"Mise en place ferraille linteau dans banche non compas","U",0.16]
[null,"Mise en place passerelle de circulation","xxx","xxx"]
[null,"Manut passerelles de décoffrage","xxx","xxx"]
[null,"Manut consoles","1U",0.15]
[null,"Stockage de voile préfa","1U",0.15]
[null,"Mise en place de voile préfa intérieur","cp",0.19500000000000001]
[null,"Mise en place façade (béton architectonique)","xxx","xxx"]
[null,"Manut de banche non-compas 2,85m extérieur","xxx","xxx"]
[null,"Manut de banche non-compas 2,85m intérieur","xxx","xxx"]
[null,"Manut des lestes","1U",4.2000000000000003E-2]
["Poteaux","Manut coffrage poteaux","U",6.5000000000000002E-2]
[null,"Manut ferrailles pour poteaux","U",6.2E-2]
[null,"Fermeture de banche","U",2.5000000000000001E-2]
[null,"Manut coffrage poteaux préfa","U",6.4000000000000001E-2]
[null,"Stockage de poteaux préfa","U",7.0000000000000007E-2]
[null,"Mise en place de poteaux préfa","U",0.185]
["Poutres","Manut de poutres (ferraille)","U",0.17]
[null,"Manut coffrage (compris étais) poutre","U",9.5000000000000001E-2]
[null,"Coulage poutre et clavetage poutre","volume benne","formule"]
[null,"Manut ferrailles pour poutre préfa ","U",7.0000000000000007E-2]
[null,"Stockage de poutres préfa ","U",7.0000000000000007E-2]
[null,"Stockage de poutres préfa pincée","xxx","xxx"]
[null,"Stockage de poutres préfa non pincée","xxx","xxx"]
[null,"Manut des étais pour soutenir poutre prefa","U",6.5000000000000002E-2]
[null,"Mise en place de poutres préfa","U",0.16500000000000001]
["PLANCHERS","Manut coffrage plancher tradi (compris étais)","17m²",7.4999999999999997E-2]
[null,"Manut de TS et autres ferrailles (par lit) pour plancher tradi et prédalles","40m²",5.8999999999999997E-2]
[null,"Coulage de plancher tradi et dalle de compression DAP et prédalles","volume benne","formule"]
[null,"Appro matériel électricien et plomberie","xxx","xxx"]
[null,"Manut panier étais de séchage ","xxx","xxx"]
[null,"Appro cadre réservation trémie","xxx","xxx"]
[null,"Manut rives de dalle","xxx","xxx"]
[null,"Manut table avec palonnier","xxx","xxx"]
[null,"Manut table avec élingues électriques","xxx","xxx"]
[null,"Stockage de prédalle et DAP","10%",0.09]
[null,"Mise en place de prédalles","U",0.105]
[null,"Manut tour étaiement pour prédalles et DAP","20m²",4.4999999999999998E-2]
[null,"Manut ferrailles pour dalle de compression  DAP et prédalles","40m²",5.5E-2]
[null,"Coulage prédalles foraines","xxx","xxx"]
[null,"Manut dalles alvéolaires","U",0.26]
[null,"Coulage de clavetage des dalles","volume benne","formule"]
["Balcons ","Manut étaiement (compris CP et rive)","xxx","xxx"]
[null,"Manut de TS et autres ferrailles","xxx","xxx"]
[null,"Coulage balcon tradi, prédalle et dalle de compression","xxx","xxx"]
[null,"Manut de TS et autres ferrailles","xxx","xxx"]
[null,"Stockage de prédalle","xxx","xxx"]
[null,"Mise en place de prédalle","xxx","xxx"]
[null,"Manut étaiement","xxx","xxx"]
[null,"Manut ferrailles pour dalle de compression","xxx","xxx"]
[null,"Manut ferraille","xxx","xxx"]
[null,"Coulage des garde-corps","xxx","xxx"]
[null,"Stockage des garde-corps","xxx","xxx"]
[null,"Manut de l'outil de pose de garde-corps","xxx","xxx"]
[null,"Mise en place des garde-corps préfa","xxx","xxx"]
[null,"Mise en place dalle préfa de balcon (béton architectonique)","xxx","xxx"]
[null,"Mise en place balcon préfa avec garde corps intégrés","xxx","xxx"]
["Divers préfa","Stockage de l'allège","U",7.4999999999999997E-2]
[null,"Manut de l'outil de pose d'allège","U",0.25]
[null,"Manut ferraille allège","U",7.4999999999999997E-2]
[null,"Mise en place de l'allège","U",0.152]
[null,"Manut escalier préfa ","U",0.29499999999999998]
[null,"Manut 1/2 cage circulaire","U",0.127]
[null,"Plateforme escalier","U",0.156]
[null,"Manut de podium d'ascenseur","U",0.16200000000000001]
[null,"Stockage divers éléments préfas (à 100%) ","xxx","xxx"]
[null,"Manut de gaines préfa","U",0.16500000000000001]
["Sécurité et garde corps","Mise en place filets rob's","xxx","xxx"]
[null,"Manut coffrage garde-corps tradi ","xxx","xxx"]
[null,"Appro ferraillage garde corps préfa (par 3 unités)","xxx","xxx"]
[null,"Manut platelage sur tiges","xxx","xxx"]
[null,"Mise en place garde corps préfa béton gris","xxx","xxx"]
[null,"Mise en place garde corps préfa béton architectonique","xxx","xxx"]
[null,"Coulage garde-corps","xxx","xxx"]
["Divers ","Manut divers matériels et matériaux","cp",0.125]
[null,"Déchargements divers","cp",3.5000000000000003E-2]
[null,"Manut de benne à gravats","cp",0.125]
[null,"Appro divers maçonnerie","xxx","xxx"]
[null,"Approvisionnement des sous-traitants","xxx","xxx"]
[null,"Approvisionnement des sous-traitants","U",9.5000000000000001E-2]
[null,"Elingage, désélingage palonnier","U",2.9000000000000001E-2]